Package: DMRScan Version: 1.26.0 Command: /home/biocbuild/R/R-beta-2024-04-15_r86425/bin/R CMD check --install=check:DMRScan.install-out.txt --library=/home/biocbuild/R/R-beta-2024-04-15_r86425/site-library --no-vignettes --timings DMRScan_1.26.0.tar.gz StartedAt: 2024-05-09 06:53:40 -0000 (Thu, 09 May 2024) EndedAt: 2024-05-09 07:01:19 -0000 (Thu, 09 May 2024) EllapsedTime: 458.8 seconds RetCode: 0 Status: OK CheckDir: DMRScan.Rcheck Warnings: 0