Package: DMRScan Version: 1.26.0 Command: /home/biocbuild/R/R-beta-2024-04-15_r86425/bin/R CMD INSTALL DMRScan StartedAt: 2024-05-08 20:11:31 -0000 (Wed, 08 May 2024) EndedAt: 2024-05-08 20:11:53 -0000 (Wed, 08 May 2024) EllapsedTime: 22.3 seconds RetCode: 0 Status: OK