Package: DMRScan Version: 1.26.0 Command: E:\biocbuild\bbs-3.19-bioc\R\bin\R.exe CMD INSTALL DMRScan StartedAt: 2024-10-16 16:11:42 -0400 (Wed, 16 Oct 2024) EndedAt: 2024-10-16 16:12:04 -0400 (Wed, 16 Oct 2024) EllapsedTime: 21.6 seconds RetCode: 0 Status: OK