Package: DMRcaller Version: 1.36.0 Command: /Library/Frameworks/R.framework/Resources/bin/R CMD build --keep-empty-dirs --no-resave-data DMRcaller StartedAt: 2024-10-16 23:29:04 -0400 (Wed, 16 Oct 2024) EndedAt: 2024-10-16 23:30:28 -0400 (Wed, 16 Oct 2024) EllapsedTime: 84.6 seconds RetCode: 0 Status: OK PackageFile: DMRcaller_1.36.0.tar.gz PackageFileSize: 1.633 MiB