Package: DMRcate Version: 3.0.10 Command: /Library/Frameworks/R.framework/Resources/bin/R CMD build --keep-empty-dirs --no-resave-data DMRcate StartedAt: 2024-10-16 18:48:38 -0400 (Wed, 16 Oct 2024) EndedAt: 2024-10-16 19:16:05 -0400 (Wed, 16 Oct 2024) EllapsedTime: 1647.4 seconds RetCode: 1 Status: ERROR PackageFile: None PackageFileSize: NA