Package: DMRcate Version: 3.0.10 Command: /home/biocbuild/bbs-3.19-bioc/R/bin/R CMD check --install=check:DMRcate.install-out.txt --library=/home/biocbuild/bbs-3.19-bioc/R/site-library --timings DMRcate_3.0.10.tar.gz StartedAt: 2024-10-16 23:54:02 -0400 (Wed, 16 Oct 2024) EndedAt: 2024-10-17 00:20:13 -0400 (Thu, 17 Oct 2024) EllapsedTime: 1571.1 seconds RetCode: 1 Status: ERROR CheckDir: DMRcate.Rcheck Warnings: NA