Package: DMRcate Version: 3.0.10 Command: rm -rf DMRcate.buildbin-libdir && mkdir DMRcate.buildbin-libdir && E:\biocbuild\bbs-3.19-bioc\R\bin\R.exe CMD INSTALL --build --library=DMRcate.buildbin-libdir DMRcate_3.0.10.tar.gz StartedAt: 2024-10-17 07:42:30 -0400 (Thu, 17 Oct 2024) EndedAt: 2024-10-17 07:43:47 -0400 (Thu, 17 Oct 2024) EllapsedTime: 76.5 seconds RetCode: 0 Status: OK PackageFile: DMRcate_3.0.10.zip PackageFileSize: 1.149 MiB