Package: DMRcate Version: 3.0.10 Command: chmod a+r DMRcate -R && E:\biocbuild\bbs-3.19-bioc\R\bin\R.exe CMD build --keep-empty-dirs --no-resave-data DMRcate StartedAt: 2024-10-16 18:45:00 -0400 (Wed, 16 Oct 2024) EndedAt: 2024-10-16 19:08:38 -0400 (Wed, 16 Oct 2024) EllapsedTime: 1418.4 seconds RetCode: 0 Status: OK PackageFile: DMRcate_3.0.10.tar.gz PackageFileSize: 810 KiB