Package: DMRcate Version: 3.0.10 Command: E:\biocbuild\bbs-3.19-bioc\R\bin\R.exe CMD INSTALL DMRcate StartedAt: 2024-10-16 17:25:47 -0400 (Wed, 16 Oct 2024) EndedAt: 2024-10-16 17:26:43 -0400 (Wed, 16 Oct 2024) EllapsedTime: 56.1 seconds RetCode: 0 Status: OK