Package: DNABarcodes Version: 1.34.1 Command: /Library/Frameworks/R.framework/Resources/bin/R CMD INSTALL DNABarcodes StartedAt: 2024-10-16 17:46:11 -0400 (Wed, 16 Oct 2024) EndedAt: 2024-10-16 17:47:13 -0400 (Wed, 16 Oct 2024) EllapsedTime: 62.1 seconds RetCode: 0 Status: OK