Package: DNABarcodes Version: 1.34.1 Command: rm -rf DNABarcodes.buildbin-libdir && mkdir DNABarcodes.buildbin-libdir && E:\biocbuild\bbs-3.19-bioc\R\bin\R.exe CMD INSTALL --build --library=DNABarcodes.buildbin-libdir DNABarcodes_1.34.1.tar.gz StartedAt: 2024-10-17 07:42:51 -0400 (Thu, 17 Oct 2024) EndedAt: 2024-10-17 07:44:58 -0400 (Thu, 17 Oct 2024) EllapsedTime: 127.2 seconds RetCode: 0 Status: OK PackageFile: DNABarcodes_1.34.1.zip PackageFileSize: 887 KiB