Package: DNAshapeR Version: 1.32.0 Command: /Library/Frameworks/R.framework/Resources/bin/R CMD build --keep-empty-dirs --no-resave-data DNAshapeR StartedAt: 2024-10-16 23:32:16 -0400 (Wed, 16 Oct 2024) EndedAt: 2024-10-16 23:33:30 -0400 (Wed, 16 Oct 2024) EllapsedTime: 73.9 seconds RetCode: 0 Status: OK PackageFile: DNAshapeR_1.32.0.tar.gz PackageFileSize: 1.138 MiB