Package: DNAshapeR Version: 1.32.0 Command: /home/biocbuild/bbs-3.19-bioc/R/bin/R CMD build --keep-empty-dirs --no-resave-data DNAshapeR StartedAt: 2024-10-16 18:16:11 -0400 (Wed, 16 Oct 2024) EndedAt: 2024-10-16 18:17:09 -0400 (Wed, 16 Oct 2024) EllapsedTime: 58.1 seconds RetCode: 0 Status: OK PackageFile: DNAshapeR_1.32.0.tar.gz PackageFileSize: 1.077 MiB