Package: DNAshapeR Version: 1.32.0 Command: F:\biocbuild\bbs-3.19-bioc\R\bin\R.exe CMD check --no-multiarch --install=check:DNAshapeR.install-out.txt --library=F:\biocbuild\bbs-3.19-bioc\R\library --no-vignettes --timings DNAshapeR_1.32.0.tar.gz StartedAt: 2024-06-27 01:09:18 -0400 (Thu, 27 Jun 2024) EndedAt: 2024-06-27 01:23:34 -0400 (Thu, 27 Jun 2024) EllapsedTime: 855.6 seconds RetCode: 0 Status: OK CheckDir: DNAshapeR.Rcheck Warnings: 0