Package: DOSE Version: 3.30.1 Command: /Library/Frameworks/R.framework/Resources/bin/R CMD INSTALL DOSE StartedAt: 2024-06-09 16:49:41 -0400 (Sun, 09 Jun 2024) EndedAt: 2024-06-09 16:50:18 -0400 (Sun, 09 Jun 2024) EllapsedTime: 37.0 seconds RetCode: 0 Status: OK