Package: DSS Version: 2.52.0 Command: /Library/Frameworks/R.framework/Resources/bin/R CMD check --install=check:DSS.install-out.txt --library=/Library/Frameworks/R.framework/Resources/library --no-vignettes --timings DSS_2.52.0.tar.gz StartedAt: 2024-10-17 20:16:16 -0400 (Thu, 17 Oct 2024) EndedAt: 2024-10-17 20:21:46 -0400 (Thu, 17 Oct 2024) EllapsedTime: 330.1 seconds RetCode: 0 Status: WARNINGS CheckDir: DSS.Rcheck Warnings: 1