Package: DSS Version: 2.52.0 Command: /home/biocbuild/R/R-beta-2024-04-15_r86425/bin/R CMD check --install=check:DSS.install-out.txt --library=/home/biocbuild/R/R-beta-2024-04-15_r86425/site-library --no-vignettes --timings DSS_2.52.0.tar.gz StartedAt: 2024-05-09 07:00:05 -0000 (Thu, 09 May 2024) EndedAt: 2024-05-09 07:05:50 -0000 (Thu, 09 May 2024) EllapsedTime: 345.6 seconds RetCode: 0 Status: WARNINGS CheckDir: DSS.Rcheck Warnings: 1