Package: DSS Version: 2.52.0 Command: /Library/Frameworks/R.framework/Resources/bin/R CMD INSTALL DSS StartedAt: 2024-10-16 15:41:39 -0400 (Wed, 16 Oct 2024) EndedAt: 2024-10-16 15:43:08 -0400 (Wed, 16 Oct 2024) EllapsedTime: 89.7 seconds RetCode: 0 Status: OK