Package: DeProViR Version: 1.0.0 Command: /Library/Frameworks/R.framework/Resources/bin/R CMD build --keep-empty-dirs --no-resave-data DeProViR StartedAt: 2024-10-16 23:07:42 -0400 (Wed, 16 Oct 2024) EndedAt: 2024-10-16 23:08:10 -0400 (Wed, 16 Oct 2024) EllapsedTime: 28.4 seconds RetCode: 1 Status: ERROR PackageFile: None PackageFileSize: NA