Package: DegCre Version: 1.0.0 Command: /home/biocbuild/bbs-3.19-bioc/R/bin/R CMD build --keep-empty-dirs --no-resave-data DegCre StartedAt: 2024-10-16 18:07:09 -0400 (Wed, 16 Oct 2024) EndedAt: 2024-10-16 18:08:26 -0400 (Wed, 16 Oct 2024) EllapsedTime: 77.1 seconds RetCode: 0 Status: OK PackageFile: DegCre_1.0.0.tar.gz PackageFileSize: 2.231 MiB