Package: DegNorm Version: 1.14.0 Command: /Library/Frameworks/R.framework/Resources/bin/R CMD INSTALL DegNorm StartedAt: 2024-10-16 18:24:12 -0400 (Wed, 16 Oct 2024) EndedAt: 2024-10-16 18:25:10 -0400 (Wed, 16 Oct 2024) EllapsedTime: 58.3 seconds RetCode: 0 Status: OK