Package: DegNorm Version: 1.14.0 Command: /Library/Frameworks/R.framework/Resources/bin/R CMD build --keep-empty-dirs --no-resave-data DegNorm StartedAt: 2024-06-09 20:26:38 -0400 (Sun, 09 Jun 2024) EndedAt: 2024-06-09 20:33:45 -0400 (Sun, 09 Jun 2024) EllapsedTime: 427.4 seconds RetCode: 0 Status: OK PackageFile: DegNorm_1.14.0.tar.gz PackageFileSize: 3.399 MiB