Package: DegNorm Version: 1.14.0 Command: /Library/Frameworks/R.framework/Resources/bin/R CMD check --install=check:DegNorm.install-out.txt --library=/Library/Frameworks/R.framework/Resources/library --no-vignettes --timings DegNorm_1.14.0.tar.gz StartedAt: 2024-06-09 19:52:30 -0400 (Sun, 09 Jun 2024) EndedAt: 2024-06-09 19:59:58 -0400 (Sun, 09 Jun 2024) EllapsedTime: 448.4 seconds RetCode: 0 Status: OK CheckDir: DegNorm.Rcheck Warnings: 0