Package: DegNorm Version: 1.14.0 Command: /home/biocbuild/bbs-3.19-bioc/R/bin/R CMD build --keep-empty-dirs --no-resave-data DegNorm StartedAt: 2024-10-16 18:07:34 -0400 (Wed, 16 Oct 2024) EndedAt: 2024-10-16 18:12:26 -0400 (Wed, 16 Oct 2024) EllapsedTime: 291.5 seconds RetCode: 0 Status: OK PackageFile: DegNorm_1.14.0.tar.gz PackageFileSize: 3.348 MiB