Package: DepInfeR Version: 1.8.0 Command: /Library/Frameworks/R.framework/Resources/bin/R CMD check --install=check:DepInfeR.install-out.txt --library=/Library/Frameworks/R.framework/Resources/library --no-vignettes --timings DepInfeR_1.8.0.tar.gz StartedAt: 2024-06-09 19:56:07 -0400 (Sun, 09 Jun 2024) EndedAt: 2024-06-09 19:57:58 -0400 (Sun, 09 Jun 2024) EllapsedTime: 111.1 seconds RetCode: 0 Status: OK CheckDir: DepInfeR.Rcheck Warnings: 0