Package: DepInfeR Version: 1.8.0 Command: rm -rf DepInfeR.buildbin-libdir && mkdir DepInfeR.buildbin-libdir && F:\biocbuild\bbs-3.19-bioc\R\bin\R.exe CMD INSTALL --build --library=DepInfeR.buildbin-libdir DepInfeR_1.8.0.tar.gz StartedAt: 2024-06-27 08:06:41 -0400 (Thu, 27 Jun 2024) EndedAt: 2024-06-27 08:06:54 -0400 (Thu, 27 Jun 2024) EllapsedTime: 12.4 seconds RetCode: 0 Status: OK PackageFile: DepInfeR_1.8.0.zip PackageFileSize: 1.772 MiB