Package: DepInfeR Version: 1.8.0 Command: chmod a+r DepInfeR -R && F:\biocbuild\bbs-3.19-bioc\R\bin\R.exe CMD build --keep-empty-dirs --no-resave-data DepInfeR StartedAt: 2024-06-26 18:20:48 -0400 (Wed, 26 Jun 2024) EndedAt: 2024-06-26 18:21:53 -0400 (Wed, 26 Jun 2024) EllapsedTime: 65.2 seconds RetCode: 0 Status: OK PackageFile: DepInfeR_1.8.0.tar.gz PackageFileSize: 1.75 MiB