Package: DiffBind Version: 3.14.0 Command: rm -rf DiffBind.buildbin-libdir && mkdir DiffBind.buildbin-libdir && /Users/biocbuild/BBS/utils/build-universal.sh DiffBind_3.14.0.tar.gz /Library/Frameworks/R.framework/Resources/bin/R DiffBind.buildbin-libdir StartedAt: 2024-10-18 18:11:28 -0400 (Fri, 18 Oct 2024) EndedAt: 2024-10-18 18:13:19 -0400 (Fri, 18 Oct 2024) EllapsedTime: 111.3 seconds RetCode: 0 Status: OK PackageFile: DiffBind_3.14.0.tgz PackageFileSize: 6.984 MiB