Package: DiffBind Version: 3.14.0 Command: /Library/Frameworks/R.framework/Resources/bin/R CMD build --keep-empty-dirs --no-resave-data DiffBind StartedAt: 2024-10-16 23:16:44 -0400 (Wed, 16 Oct 2024) EndedAt: 2024-10-16 23:20:47 -0400 (Wed, 16 Oct 2024) EllapsedTime: 243.6 seconds RetCode: 0 Status: OK PackageFile: DiffBind_3.14.0.tar.gz PackageFileSize: 6.486 MiB