Package: DiffBind Version: 3.14.0 Command: /Library/Frameworks/R.framework/Resources/bin/R CMD INSTALL DiffBind StartedAt: 2024-10-16 17:17:51 -0400 (Wed, 16 Oct 2024) EndedAt: 2024-10-16 17:19:18 -0400 (Wed, 16 Oct 2024) EllapsedTime: 87.4 seconds RetCode: 0 Status: OK