Package: DiffBind Version: 3.14.0 Command: /home/biocbuild/R/R-beta-2024-04-15_r86425/bin/R CMD build --keep-empty-dirs --no-resave-data DiffBind StartedAt: 2024-05-08 23:54:29 -0000 (Wed, 08 May 2024) EndedAt: 2024-05-08 23:59:45 -0000 (Wed, 08 May 2024) EllapsedTime: 316.4 seconds RetCode: 0 Status: OK PackageFile: DiffBind_3.14.0.tar.gz PackageFileSize: 6.478 MiB