Package: DiffBind Version: 3.14.0 Command: /Library/Frameworks/R.framework/Resources/bin/R CMD check --install=check:DiffBind.install-out.txt --library=/Library/Frameworks/R.framework/Resources/library --no-vignettes --timings DiffBind_3.14.0.tar.gz StartedAt: 2024-10-17 04:15:59 -0400 (Thu, 17 Oct 2024) EndedAt: 2024-10-17 04:43:34 -0400 (Thu, 17 Oct 2024) EllapsedTime: 1654.8 seconds RetCode: 0 Status: OK CheckDir: DiffBind.Rcheck Warnings: 0