Package: DiffBind Version: 3.14.0 Command: /home/biocbuild/bbs-3.19-bioc/R/bin/R CMD build --keep-empty-dirs --no-resave-data DiffBind StartedAt: 2024-10-16 18:12:38 -0400 (Wed, 16 Oct 2024) EndedAt: 2024-10-16 18:16:02 -0400 (Wed, 16 Oct 2024) EllapsedTime: 204.4 seconds RetCode: 0 Status: OK PackageFile: DiffBind_3.14.0.tar.gz PackageFileSize: 6.487 MiB