Package: DiffBind Version: 3.14.0 Command: /home/biocbuild/bbs-3.19-bioc/R/bin/R CMD INSTALL DiffBind StartedAt: 2024-10-16 16:19:06 -0400 (Wed, 16 Oct 2024) EndedAt: 2024-10-16 16:20:18 -0400 (Wed, 16 Oct 2024) EllapsedTime: 72.4 seconds RetCode: 0 Status: OK