Package: DiffBind Version: 3.14.0 Command: rm -rf DiffBind.buildbin-libdir && mkdir DiffBind.buildbin-libdir && F:\biocbuild\bbs-3.19-bioc\R\bin\R.exe CMD INSTALL --build --library=DiffBind.buildbin-libdir DiffBind_3.14.0.tar.gz StartedAt: 2024-06-27 08:07:16 -0400 (Thu, 27 Jun 2024) EndedAt: 2024-06-27 08:09:30 -0400 (Thu, 27 Jun 2024) EllapsedTime: 134.9 seconds RetCode: 0 Status: OK PackageFile: DiffBind_3.14.0.zip PackageFileSize: 11.36 MiB