Package: DiffBind Version: 3.14.0 Command: chmod a+r DiffBind -R && F:\biocbuild\bbs-3.19-bioc\R\bin\R.exe CMD build --keep-empty-dirs --no-resave-data DiffBind StartedAt: 2024-06-26 18:24:04 -0400 (Wed, 26 Jun 2024) EndedAt: 2024-06-26 18:28:36 -0400 (Wed, 26 Jun 2024) EllapsedTime: 271.2 seconds RetCode: 0 Status: OK PackageFile: DiffBind_3.14.0.tar.gz PackageFileSize: 6.493 MiB