Package: DiffBind Version: 3.14.0 Command: F:\biocbuild\bbs-3.19-bioc\R\bin\R.exe CMD INSTALL DiffBind StartedAt: 2024-06-26 16:18:37 -0400 (Wed, 26 Jun 2024) EndedAt: 2024-06-26 16:20:50 -0400 (Wed, 26 Jun 2024) EllapsedTime: 133.4 seconds RetCode: 0 Status: OK