Package: DiffBind Version: 3.14.0 Command: rm -rf DiffBind.buildbin-libdir && mkdir DiffBind.buildbin-libdir && E:\biocbuild\bbs-3.19-bioc\R\bin\R.exe CMD INSTALL --build --library=DiffBind.buildbin-libdir DiffBind_3.14.0.tar.gz StartedAt: 2024-10-17 07:41:36 -0400 (Thu, 17 Oct 2024) EndedAt: 2024-10-17 07:43:57 -0400 (Thu, 17 Oct 2024) EllapsedTime: 140.8 seconds RetCode: 0 Status: OK PackageFile: DiffBind_3.14.0.zip PackageFileSize: 11.36 MiB