Package: DiffBind Version: 3.14.0 Command: E:\biocbuild\bbs-3.19-bioc\R\bin\R.exe CMD check --no-multiarch --install=check:DiffBind.install-out.txt --library=E:\biocbuild\bbs-3.19-bioc\R\library --no-vignettes --timings DiffBind_3.14.0.tar.gz StartedAt: 2024-10-17 00:51:36 -0400 (Thu, 17 Oct 2024) EndedAt: 2024-10-17 01:03:18 -0400 (Thu, 17 Oct 2024) EllapsedTime: 702.4 seconds RetCode: 0 Status: OK CheckDir: DiffBind.Rcheck Warnings: 0