Package: DiffBind Version: 3.14.0 Command: E:\biocbuild\bbs-3.19-bioc\R\bin\R.exe CMD INSTALL DiffBind StartedAt: 2024-10-16 16:43:19 -0400 (Wed, 16 Oct 2024) EndedAt: 2024-10-16 16:45:41 -0400 (Wed, 16 Oct 2024) EllapsedTime: 142.5 seconds RetCode: 0 Status: OK