Package: DiffLogo Version: 2.28.0 Command: /home/biocbuild/bbs-3.19-bioc/R/bin/R CMD build --keep-empty-dirs --no-resave-data DiffLogo StartedAt: 2024-10-16 18:13:38 -0400 (Wed, 16 Oct 2024) EndedAt: 2024-10-16 18:14:19 -0400 (Wed, 16 Oct 2024) EllapsedTime: 41.1 seconds RetCode: 0 Status: OK PackageFile: DiffLogo_2.28.0.tar.gz PackageFileSize: 815.4 KiB