Package: DiffLogo Version: 2.28.0 Command: chmod a+r DiffLogo -R && E:\biocbuild\bbs-3.19-bioc\R\bin\R.exe CMD build --keep-empty-dirs --no-resave-data DiffLogo StartedAt: 2024-10-16 18:42:35 -0400 (Wed, 16 Oct 2024) EndedAt: 2024-10-16 18:43:38 -0400 (Wed, 16 Oct 2024) EllapsedTime: 62.7 seconds RetCode: 0 Status: OK PackageFile: DiffLogo_2.28.0.tar.gz PackageFileSize: 817.3 KiB