Package: Dino Version: 1.10.0 Command: /home/biocbuild/R/R-beta-2024-04-15_r86425/bin/R CMD build --keep-empty-dirs --no-resave-data Dino StartedAt: 2024-05-08 23:56:09 -0000 (Wed, 08 May 2024) EndedAt: 2024-05-08 23:58:29 -0000 (Wed, 08 May 2024) EllapsedTime: 140.2 seconds RetCode: 0 Status: OK PackageFile: Dino_1.10.0.tar.gz PackageFileSize: 927.9 KiB