Package: Dino Version: 1.10.0 Command: /home/biocbuild/R/R-beta-2024-04-15_r86425/bin/R CMD INSTALL Dino StartedAt: 2024-05-08 21:01:10 -0000 (Wed, 08 May 2024) EndedAt: 2024-05-08 21:02:04 -0000 (Wed, 08 May 2024) EllapsedTime: 54.8 seconds RetCode: 0 Status: OK