Package: Dino Version: 1.10.0 Command: /Library/Frameworks/R.framework/Resources/bin/R CMD INSTALL Dino StartedAt: 2024-06-09 15:40:19 -0400 (Sun, 09 Jun 2024) EndedAt: 2024-06-09 15:41:12 -0400 (Sun, 09 Jun 2024) EllapsedTime: 53.1 seconds RetCode: 0 Status: OK