Package: DirichletMultinomial Version: 1.46.0 Command: /Library/Frameworks/R.framework/Resources/bin/R CMD build --keep-empty-dirs --no-resave-data DirichletMultinomial StartedAt: 2024-10-16 23:26:04 -0400 (Wed, 16 Oct 2024) EndedAt: 2024-10-16 23:26:28 -0400 (Wed, 16 Oct 2024) EllapsedTime: 23.9 seconds RetCode: 0 Status: OK PackageFile: DirichletMultinomial_1.46.0.tar.gz PackageFileSize: 429.8 KiB