Package: DirichletMultinomial Version: 1.46.0 Command: /home/biocbuild/R/R-beta-2024-04-15_r86425/bin/R CMD check --install=check:DirichletMultinomial.install-out.txt --library=/home/biocbuild/R/R-beta-2024-04-15_r86425/site-library --no-vignettes --timings DirichletMultinomial_1.46.0.tar.gz StartedAt: 2024-05-09 06:51:43 -0000 (Thu, 09 May 2024) EndedAt: 2024-05-09 06:52:44 -0000 (Thu, 09 May 2024) EllapsedTime: 61.1 seconds RetCode: 0 Status: WARNINGS CheckDir: DirichletMultinomial.Rcheck Warnings: 1