Package: DirichletMultinomial Version: 1.46.0 Command: /home/biocbuild/bbs-3.19-bioc/R/bin/R CMD check --install=check:DirichletMultinomial.install-out.txt --library=/home/biocbuild/bbs-3.19-bioc/R/site-library --timings DirichletMultinomial_1.46.0.tar.gz StartedAt: 2024-10-16 23:51:40 -0400 (Wed, 16 Oct 2024) EndedAt: 2024-10-16 23:52:37 -0400 (Wed, 16 Oct 2024) EllapsedTime: 57.1 seconds RetCode: 0 Status: WARNINGS CheckDir: DirichletMultinomial.Rcheck Warnings: 1