Package: DriverNet Version: 1.44.0 Command: /Library/Frameworks/R.framework/Resources/bin/R CMD build --keep-empty-dirs --no-resave-data DriverNet StartedAt: 2024-06-09 20:54:28 -0400 (Sun, 09 Jun 2024) EndedAt: 2024-06-09 20:55:15 -0400 (Sun, 09 Jun 2024) EllapsedTime: 46.3 seconds RetCode: 0 Status: OK PackageFile: DriverNet_1.44.0.tar.gz PackageFileSize: 1.117 MiB