Package: DriverNet Version: 1.44.0 Command: /Library/Frameworks/R.framework/Resources/bin/R CMD build --keep-empty-dirs --no-resave-data DriverNet StartedAt: 2024-10-16 18:53:10 -0400 (Wed, 16 Oct 2024) EndedAt: 2024-10-16 18:54:13 -0400 (Wed, 16 Oct 2024) EllapsedTime: 63.2 seconds RetCode: 0 Status: OK PackageFile: DriverNet_1.44.0.tar.gz PackageFileSize: 1.117 MiB